BEGIN:VCALENDAR
VERSION:2.0
PRODID:-//WBWA - ECPv6.5.1.6//NONSGML v1.0//EN
CALSCALE:GREGORIAN
METHOD:PUBLISH
X-ORIGINAL-URL:https://worldbrahmin.com
X-WR-CALDESC:Events for WBWA
REFRESH-INTERVAL;VALUE=DURATION:PT1H
X-Robots-Tag:noindex
X-PUBLISHED-TTL:PT1H
BEGIN:VTIMEZONE
TZID:Asia/Kolkata
BEGIN:STANDARD
TZOFFSETFROM:+0530
TZOFFSETTO:+0530
TZNAME:IST
DTSTART:20240101T000000
END:STANDARD
END:VTIMEZONE
BEGIN:VEVENT
DTSTART;TZID=Asia/Kolkata:20240914T093000
DTEND;TZID=Asia/Kolkata:20240914T183000
DTSTAMP:20260422T054118
CREATED:20240805T130442Z
LAST-MODIFIED:20240808T051212Z
UID:15979-1726306200-1726338600@worldbrahmin.com
SUMMARY:Carnatic Music Competition
DESCRIPTION:The Gowri Hall\, Arya Gowda Road\, West Mambalam\, Chennai. \nRegister Now\n 
URL:https://worldbrahmin.com/event/carnatic-music-competition/
CATEGORIES:Category Event
END:VEVENT
END:VCALENDAR